BEGIN:VCALENDAR
VERSION:2.0
PRODID:-//Leominster Chess - ECPv6.15.17.1//NONSGML v1.0//EN
CALSCALE:GREGORIAN
METHOD:PUBLISH
X-ORIGINAL-URL:https://leominsterchess.com
X-WR-CALDESC:Events for Leominster Chess
REFRESH-INTERVAL;VALUE=DURATION:PT1H
X-Robots-Tag:noindex
X-PUBLISHED-TTL:PT1H
BEGIN:VTIMEZONE
TZID:UTC
BEGIN:STANDARD
TZOFFSETFROM:+0000
TZOFFSETTO:+0000
TZNAME:UTC
DTSTART:20230101T000000
END:STANDARD
END:VTIMEZONE
BEGIN:VEVENT
DTSTART;TZID=UTC:20241105T190000
DTEND;TZID=UTC:20241105T210000
DTSTAMP:20260419T213601
CREATED:20241015T202754Z
LAST-MODIFIED:20241015T202754Z
UID:814-1730833200-1730840400@leominsterchess.com
SUMMARY:Leominster chess club
DESCRIPTION:Join us in a friendly informal setting to play chess every Tuesday 7pm – 9pm at Leominster Community Centre.\n\n\nWho can play?\n\n\nWe welcome players of all skill levels\, including complete beginners. We are very happy to teach chess to new payers.\n\n\nHow to get here\n\n\nThe address and a map to Leominster Community Centre can be found below. There is free parking available. If arriving by car the parking is at the rear of the building\, enter via the Broad Street car park (the turning by the Factory Shop and fire station).\n\n\nFees\n\n\nOur club runs on donations\, a suggested fee of £1 per player per session will go towards our running costs.\n\n\nWhat is provided?\n\n\nThe club provides chess sets and clocks (for those who want to use them) so there is no need to bring your own. Refreshments are also provided.
URL:https://leominsterchess.com/event/leominster-chess-club-42/
LOCATION:Leominster Community Centre\, The Community Centre\, School Rd\, Leominster HR6 8NJ\, Leominster\, Herefordshire\, HR6 8NJ\, United Kingdom
ORGANIZER;CN="Ben & Iulia of Leominster Chess":MAILTO:ben@leominsterchess.com
END:VEVENT
BEGIN:VEVENT
DTSTART;TZID=UTC:20241105T190000
DTEND;TZID=UTC:20241217T210000
DTSTAMP:20260419T213601
CREATED:20241020T153326Z
LAST-MODIFIED:20241020T153326Z
UID:848-1730833200-1734469200@leominsterchess.com
SUMMARY:Leominster Chess Club Championship 2024
DESCRIPTION:Leominster Chess Clubs first championship will be taking place every Tuesday evening during November and December. The championship will conclude with a knockout tournament which will crown the Leominster Chess Club Champion 2024! \nFull details on our post Announcing the Leominster chess club championship 2024.
URL:https://leominsterchess.com/event/leominster-chess-club-championship-2024/
LOCATION:Leominster Community Centre\, The Community Centre\, School Rd\, Leominster HR6 8NJ\, Leominster\, Herefordshire\, HR6 8NJ\, United Kingdom
ORGANIZER;CN="Ben & Iulia of Leominster Chess":MAILTO:ben@leominsterchess.com
END:VEVENT
BEGIN:VEVENT
DTSTART;TZID=UTC:20241112T190000
DTEND;TZID=UTC:20241112T210000
DTSTAMP:20260419T213601
CREATED:20241015T202856Z
LAST-MODIFIED:20241015T202912Z
UID:816-1731438000-1731445200@leominsterchess.com
SUMMARY:Leominster chess club
DESCRIPTION:Join us in a friendly informal setting to play chess every Tuesday 7pm – 9pm at Leominster Community Centre. \n\n\n\nWho can play?\n\n\n\nWe welcome players of all skill levels\, including complete beginners. We are very happy to teach chess to new payers. \n\n\n\nHow to get here\n\n\n\nThe address and a map to Leominster Community Centre can be found below. There is free parking available. If arriving by car the parking is at the rear of the building\, enter via the Broad Street car park (the turning by the Factory Shop and fire station). \n\n\n\nFees\n\n\n\nOur club runs on donations\, a suggested fee of £1 per player per session will go towards our running costs. \n\n\n\nWhat is provided?\n\n\n\nThe club provides chess sets and clocks (for those who want to use them) so there is no need to bring your own. Refreshments are also provided.
URL:https://leominsterchess.com/event/leominster-chess-club-43/
LOCATION:Leominster Community Centre\, The Community Centre\, School Rd\, Leominster HR6 8NJ\, Leominster\, Herefordshire\, HR6 8NJ\, United Kingdom
ORGANIZER;CN="Ben & Iulia of Leominster Chess":MAILTO:ben@leominsterchess.com
END:VEVENT
BEGIN:VEVENT
DTSTART;TZID=UTC:20241119T190000
DTEND;TZID=UTC:20241119T210000
DTSTAMP:20260419T213601
CREATED:20241015T202950Z
LAST-MODIFIED:20241015T202950Z
UID:819-1732042800-1732050000@leominsterchess.com
SUMMARY:Leominster chess club
DESCRIPTION:Join us in a friendly informal setting to play chess every Tuesday 7pm – 9pm at Leominster Community Centre.\n\n\nWho can play?\n\n\nWe welcome players of all skill levels\, including complete beginners. We are very happy to teach chess to new payers.\n\n\nHow to get here\n\n\nThe address and a map to Leominster Community Centre can be found below. There is free parking available. If arriving by car the parking is at the rear of the building\, enter via the Broad Street car park (the turning by the Factory Shop and fire station).\n\n\nFees\n\n\nOur club runs on donations\, a suggested fee of £1 per player per session will go towards our running costs.\n\n\nWhat is provided?\n\n\nThe club provides chess sets and clocks (for those who want to use them) so there is no need to bring your own. Refreshments are also provided.
URL:https://leominsterchess.com/event/leominster-chess-club-44/
LOCATION:Leominster Community Centre\, The Community Centre\, School Rd\, Leominster HR6 8NJ\, Leominster\, Herefordshire\, HR6 8NJ\, United Kingdom
ORGANIZER;CN="Ben & Iulia of Leominster Chess":MAILTO:ben@leominsterchess.com
END:VEVENT
BEGIN:VEVENT
DTSTART;TZID=UTC:20241119T190000
DTEND;TZID=UTC:20241119T210000
DTSTAMP:20260419T213601
CREATED:20241108T091003Z
LAST-MODIFIED:20241108T091003Z
UID:909-1732042800-1732050000@leominsterchess.com
SUMMARY:Leominster vs. Kington (borders chess club)
DESCRIPTION:Round one (Leominster leg) of the Leominster Chess Club vs. Kington (borders) Chess Club. \nGames will be played during the usual meeting of Leominster Chess Club\, all players welcome and normal club games will also run alongside the match games.
URL:https://leominsterchess.com/event/leominster-vs-kington-borders-chess-club/
LOCATION:Leominster Community Centre\, The Community Centre\, School Rd\, Leominster HR6 8NJ\, Leominster\, Herefordshire\, HR6 8NJ\, United Kingdom
ORGANIZER;CN="Ben & Iulia of Leominster Chess":MAILTO:ben@leominsterchess.com
END:VEVENT
BEGIN:VEVENT
DTSTART;TZID=UTC:20241126T190000
DTEND;TZID=UTC:20241126T210000
DTSTAMP:20260419T213601
CREATED:20241015T203031Z
LAST-MODIFIED:20241015T203031Z
UID:821-1732647600-1732654800@leominsterchess.com
SUMMARY:Leominster chess club
DESCRIPTION:Join us in a friendly informal setting to play chess every Tuesday 7pm – 9pm at Leominster Community Centre.\n\n\nWho can play?\n\n\nWe welcome players of all skill levels\, including complete beginners. We are very happy to teach chess to new payers.\n\n\nHow to get here\n\n\nThe address and a map to Leominster Community Centre can be found below. There is free parking available. If arriving by car the parking is at the rear of the building\, enter via the Broad Street car park (the turning by the Factory Shop and fire station).\n\n\nFees\n\n\nOur club runs on donations\, a suggested fee of £1 per player per session will go towards our running costs.\n\n\nWhat is provided?\n\n\nThe club provides chess sets and clocks (for those who want to use them) so there is no need to bring your own. Refreshments are also provided.
URL:https://leominsterchess.com/event/leominster-chess-club-45/
LOCATION:Leominster Community Centre\, The Community Centre\, School Rd\, Leominster HR6 8NJ\, Leominster\, Herefordshire\, HR6 8NJ\, United Kingdom
ORGANIZER;CN="Ben & Iulia of Leominster Chess":MAILTO:ben@leominsterchess.com
END:VEVENT
END:VCALENDAR