BEGIN:VCALENDAR
VERSION:2.0
PRODID:-//Leominster Chess - ECPv6.15.17.1//NONSGML v1.0//EN
CALSCALE:GREGORIAN
METHOD:PUBLISH
X-WR-CALNAME:Leominster Chess
X-ORIGINAL-URL:https://leominsterchess.com
X-WR-CALDESC:Events for Leominster Chess
REFRESH-INTERVAL;VALUE=DURATION:PT1H
X-Robots-Tag:noindex
X-PUBLISHED-TTL:PT1H
BEGIN:VTIMEZONE
TZID:UTC
BEGIN:STANDARD
TZOFFSETFROM:+0000
TZOFFSETTO:+0000
TZNAME:UTC
DTSTART:20230101T000000
END:STANDARD
END:VTIMEZONE
BEGIN:VEVENT
DTSTART;TZID=UTC:20240702T190000
DTEND;TZID=UTC:20240702T210000
DTSTAMP:20260420T030753
CREATED:20240718T155517Z
LAST-MODIFIED:20240718T155517Z
UID:523-1719946800-1719954000@leominsterchess.com
SUMMARY:Leominster chess club
DESCRIPTION:Join us in a friendly informal setting to play chess every Tuesday 7pm – 9pm at Leominster Community Centre.\n\n\nWho can play?\n\n\nWe welcome players of all skill levels\, including complete beginners. We are very happy to teach chess to new payers.\n\n\nHow to get here\n\n\nThe address and a map to Leominster Community Centre can be found below. There is free parking available. If arriving by car the parking is at the rear of the building\, enter via the Broad Street car park (the turning by the Factory Shop and fire station).\n\n\nFees\n\n\nOur club runs on donations\, a suggested fee of £1 per player per session will go towards our running costs.\n\n\nWhat is provided?\n\n\nThe club provides chess sets and clocks (for those who want to use them) so there is no need to bring your own. Refreshments are also provided.
URL:https://leominsterchess.com/event/leominster-chess-club-25/
LOCATION:Leominster Community Centre\, The Community Centre\, School Rd\, Leominster HR6 8NJ\, Leominster\, Herefordshire\, HR6 8NJ\, United Kingdom
ORGANIZER;CN="Ben & Iulia of Leominster Chess":MAILTO:ben@leominsterchess.com
END:VEVENT
BEGIN:VEVENT
DTSTART;TZID=UTC:20240709T190000
DTEND;TZID=UTC:20240709T210000
DTSTAMP:20260420T030753
CREATED:20240718T155556Z
LAST-MODIFIED:20240718T155556Z
UID:525-1720551600-1720558800@leominsterchess.com
SUMMARY:Leominster chess club
DESCRIPTION:Join us in a friendly informal setting to play chess every Tuesday 7pm – 9pm at Leominster Community Centre.\n\n\nWho can play?\n\n\nWe welcome players of all skill levels\, including complete beginners. We are very happy to teach chess to new payers.\n\n\nHow to get here\n\n\nThe address and a map to Leominster Community Centre can be found below. There is free parking available. If arriving by car the parking is at the rear of the building\, enter via the Broad Street car park (the turning by the Factory Shop and fire station).\n\n\nFees\n\n\nOur club runs on donations\, a suggested fee of £1 per player per session will go towards our running costs.\n\n\nWhat is provided?\n\n\nThe club provides chess sets and clocks (for those who want to use them) so there is no need to bring your own. Refreshments are also provided.
URL:https://leominsterchess.com/event/leominster-chess-club-26/
LOCATION:Leominster Community Centre\, The Community Centre\, School Rd\, Leominster HR6 8NJ\, Leominster\, Herefordshire\, HR6 8NJ\, United Kingdom
ORGANIZER;CN="Ben & Iulia of Leominster Chess":MAILTO:ben@leominsterchess.com
END:VEVENT
BEGIN:VEVENT
DTSTART;TZID=UTC:20240716T190000
DTEND;TZID=UTC:20240716T210000
DTSTAMP:20260420T030753
CREATED:20240718T155633Z
LAST-MODIFIED:20240718T155633Z
UID:527-1721156400-1721163600@leominsterchess.com
SUMMARY:Leominster chess club
DESCRIPTION:Join us in a friendly informal setting to play chess every Tuesday 7pm – 9pm at Leominster Community Centre.\n\n\nWho can play?\n\n\nWe welcome players of all skill levels\, including complete beginners. We are very happy to teach chess to new payers.\n\n\nHow to get here\n\n\nThe address and a map to Leominster Community Centre can be found below. There is free parking available. If arriving by car the parking is at the rear of the building\, enter via the Broad Street car park (the turning by the Factory Shop and fire station).\n\n\nFees\n\n\nOur club runs on donations\, a suggested fee of £1 per player per session will go towards our running costs.\n\n\nWhat is provided?\n\n\nThe club provides chess sets and clocks (for those who want to use them) so there is no need to bring your own. Refreshments are also provided.
URL:https://leominsterchess.com/event/leominster-chess-club-27/
LOCATION:Leominster Community Centre\, The Community Centre\, School Rd\, Leominster HR6 8NJ\, Leominster\, Herefordshire\, HR6 8NJ\, United Kingdom
ORGANIZER;CN="Ben & Iulia of Leominster Chess":MAILTO:ben@leominsterchess.com
END:VEVENT
BEGIN:VEVENT
DTSTART;TZID=UTC:20240723T190000
DTEND;TZID=UTC:20240723T210000
DTSTAMP:20260420T030753
CREATED:20240718T155714Z
LAST-MODIFIED:20240718T155714Z
UID:529-1721761200-1721768400@leominsterchess.com
SUMMARY:Leominster chess club
DESCRIPTION:Join us in a friendly informal setting to play chess every Tuesday 7pm – 9pm at Leominster Community Centre.\n\n\nWho can play?\n\n\nWe welcome players of all skill levels\, including complete beginners. We are very happy to teach chess to new payers.\n\n\nHow to get here\n\n\nThe address and a map to Leominster Community Centre can be found below. There is free parking available. If arriving by car the parking is at the rear of the building\, enter via the Broad Street car park (the turning by the Factory Shop and fire station).\n\n\nFees\n\n\nOur club runs on donations\, a suggested fee of £1 per player per session will go towards our running costs.\n\n\nWhat is provided?\n\n\nThe club provides chess sets and clocks (for those who want to use them) so there is no need to bring your own. Refreshments are also provided.
URL:https://leominsterchess.com/event/leominster-chess-club-28/
LOCATION:Leominster Community Centre\, The Community Centre\, School Rd\, Leominster HR6 8NJ\, Leominster\, Herefordshire\, HR6 8NJ\, United Kingdom
ORGANIZER;CN="Ben & Iulia of Leominster Chess":MAILTO:ben@leominsterchess.com
END:VEVENT
BEGIN:VEVENT
DTSTART;TZID=UTC:20240730T190000
DTEND;TZID=UTC:20240730T210000
DTSTAMP:20260420T030753
CREATED:20240718T155746Z
LAST-MODIFIED:20240718T155746Z
UID:531-1722366000-1722373200@leominsterchess.com
SUMMARY:Leominster chess club
DESCRIPTION:Join us in a friendly informal setting to play chess every Tuesday 7pm – 9pm at Leominster Community Centre.\n\n\nWho can play?\n\n\nWe welcome players of all skill levels\, including complete beginners. We are very happy to teach chess to new payers.\n\n\nHow to get here\n\n\nThe address and a map to Leominster Community Centre can be found below. There is free parking available. If arriving by car the parking is at the rear of the building\, enter via the Broad Street car park (the turning by the Factory Shop and fire station).\n\n\nFees\n\n\nOur club runs on donations\, a suggested fee of £1 per player per session will go towards our running costs.\n\n\nWhat is provided?\n\n\nThe club provides chess sets and clocks (for those who want to use them) so there is no need to bring your own. Refreshments are also provided.
URL:https://leominsterchess.com/event/leominster-chess-club-29/
LOCATION:Leominster Community Centre\, The Community Centre\, School Rd\, Leominster HR6 8NJ\, Leominster\, Herefordshire\, HR6 8NJ\, United Kingdom
ORGANIZER;CN="Ben & Iulia of Leominster Chess":MAILTO:ben@leominsterchess.com
END:VEVENT
BEGIN:VEVENT
DTSTART;TZID=UTC:20240731T190000
DTEND;TZID=UTC:20240731T220000
DTSTAMP:20260420T030753
CREATED:20240718T163030Z
LAST-MODIFIED:20240718T163030Z
UID:546-1722452400-1722463200@leominsterchess.com
SUMMARY:Leominster vs. Hereford chess club (away leg)
DESCRIPTION:The away leg of the friendly match between Leominster Chess Club and Hereford Chess Club will take place on Wednesday 31st of July. The venue is The Herdsman pub in central Hereford\, for full details of the venue see the Hereford Chess Club website. \nNote that this is a closed team event to players of Leominster Chess Club. If you are not already on the team and you’d like to join\, please get in touch.
URL:https://leominsterchess.com/event/leominster-vs-hereford-chess-club-away-leg/
LOCATION:Hereford Chess Club\, The Herdsman\, Widemarsh street\, Hereford\, Herefordshire\, HR4 9HG\, United Kingdom
ORGANIZER;CN="Ben & Iulia of Leominster Chess":MAILTO:ben@leominsterchess.com
END:VEVENT
END:VCALENDAR